Workbook

Sheet 出品者一覧
A1: 第８回アグリ・アート展 出品者一覧
B3: 学校名
B4: 住 所
B5: 電話番号
C7: ⇓ 特別支援学級の場合は 特 と入力してください
A8: 番号 | B8: 学年 (才) | C8: 特 | D8: ふりがな | E8: 氏名 | F8: 作品名
A9: 1
A10: 2
A11: 3
A12: 4
A13: 5
A14: 6
A15: 7
A16: 8
A17: 9
A18: 10
A19: 11
A20: 12
... A28: 20

Sheet 出品票
A2: -出品票-
A4: 学校名・住所・電話番号 | M4: 印刷する番号
B5: =出品者一覧!C3 -> 0 | M5: ↓
B6: =出品者一覧!C4 -> 0 | M6: 1
B7: =出品者一覧!C5 -> 0
B8: 才児 | F8: ふりがな | G8: =IFERROR(VLOOKUP(M6,出品者一覧!A9:F28,4,2),"") -> 0
A9: =IFERROR(VLOOKUP(M6,出品者一覧!A9:F28,2,2),"") -> 0 | F9: 氏名
B10: 年 | C10: ( | D10: =IFERROR(IF(VLOOKUP(M6,出品者一覧!A9:F28,3,2)="特","㊕","特")," ") -> 特 | E10: ) | G10: =IFERROR(VLOOKUP(M6,出品者一覧!A9:F28,5,2),"") -> 0
F11: ※こちらの名前で展示・表彰をしますのでご確認ください。
A14: 作品名
B15: =IFERROR(VLOOKUP(M6,出品者一覧!A9:F28,6,2),"") -> 0
A16: グランプリ ・ JA ・ 獣医師会 ・ 入選
A19: -出品票-
A21: 学校名・住所・電話番号 | M21: 印刷する番号
B22: =出品者一覧!C3 -> 0 | M22: ↓
B23: =出品者一覧!C4 -> 0 | M23: 1
B24: =出品者一覧!C5 -> 0
B25: 才児 | F25: ふりがな | G25: =IFERROR(VLOOKUP(M23,出品者一覧!A9:F28,4,2),"") -> 0
A26: =IFERROR(VLOOKUP(M23,出品者一覧!A9:F28,2,2),"") -> 0 | F26: 氏名
B27: 年 | C27: ( | D27: =IFERROR(IF(VLOOKUP(M23,出品者一覧!A9:F28,3,2)="特","㊕","特")," ") -> 特 | E27: ) | G27: =IFERROR(VLOOKUP(M23,出品者一覧!A9:F28,5,2),"") -> 0
F28: ※こちらの名前で展示・表彰をしますのでご確認ください。
A31: 作品名
B32: =IFERROR(VLOOKUP(M23,出品者一覧!A9:F28,6,2),"") -> 0
A33: グランプリ ・ JA ・ 獣医師会 ・ 入選
A36: -出品票-
A38: 学校名・住所・電話番号 | M38: 印刷する番号
B39: =出品者一覧!C3 -> 0 | M39: ↓
B40: =出品者一覧!C4 -> 0
B41: =出品者一覧!C5 -> 0
B42: 才児 | F42: ふりがな | G42: =IFERROR(VLOOKUP(M40,出品者一覧!A9:F46,4,2),"")
A43: =IFERROR(VLOOKUP(M40,出品者一覧!A9:F46,2,2),"") | F43: 氏名
B44: 年 | C44: ( | D44: =IFERROR(IF(VLOOKUP(M40,出品者一覧!A9:F28,3,2)="特","㊕","特"),"") | E44: ) | G44: =IFERROR(VLOOKUP(M40,出品者一覧!A9:F46,5,2),"")
F45: ※こちらの名前で展示・表彰をしますのでご確認ください。
A48: 作品名
B49: =IFERROR(VLOOKUP(M40,出品者一覧!A9:F46,6,2),"")
A50: グランプリ ・ JA ・ 獣医師会 ・ 入選
